BEGIN:VCALENDAR
VERSION:2.0
PRODID:-//ChamberMaster//Event Calendar 2.0//EN
METHOD:PUBLISH
X-PUBLISHED-TTL:P3D
REFRESH-INTERVAL:P3D
CALSCALE:GREGORIAN
BEGIN:VEVENT
DTSTART:20230213T120000Z
DTEND:20230213T134500Z
X-MICROSOFT-CDO-ALLDAYEVENT:FALSE
SUMMARY:Addison County Legislative Breakfast
DESCRIPTION:Addison County Legislative Breakfasts are back!! All are welcome to attend. Come ask a question  or make a comment about a bill. The purchase of breakfast is not required to attend\, but helps defray the cost of opening the venues.\n\n\n\n \n\n\n\nSponsored by The Bridport Grange #303 and the Addison County Farm Bureau.
X-ALT-DESC;FMTTYPE=text/html:<div>\n<div dir="auto">Addison County Legislative Breakfasts are back!! All are welcome to attend. Come ask a question&zwj\;&nbsp\;or make a comment about a bill. The purchase of breakfast is not required to attend\, but helps defray the cost of opening the venues.</div>\n</div>\n\n<div>\n<div dir="auto">&nbsp\;</div>\n</div>\n\n<div>\n<div dir="auto"><strong>Sponsored by The Bridport Grange #303 and the Addison County Farm Bureau.</strong></div>\n</div>\n
LOCATION:St. Peters Parish Hall 85 Main Street\, Vergennes\, VT 05491
UID:e.1111.6200
SEQUENCE:3
DTSTAMP:20260424T103426Z
URL:http://business.addisoncounty.com/events/details/addison-county-legislative-breakfast-6200
END:VEVENT

END:VCALENDAR
