BEGIN:VCALENDAR
VERSION:2.0
PRODID:-//ChamberMaster//Event Calendar 2.0//EN
METHOD:PUBLISH
X-PUBLISHED-TTL:P3D
REFRESH-INTERVAL:P3D
CALSCALE:GREGORIAN
BEGIN:VEVENT
DTSTART;VALUE=DATE:20260619
DTEND;VALUE=DATE:20260622
TRANSP:TRANSPARENT
X-MICROSOFT-CDO-ALLDAYEVENT:TRUE
SUMMARY:Artists Retreat Weekend at Blueberry Hill Inn
DESCRIPTION:June 19-21\; 2 nights\n\nWe are thrilled to be offering this wonderful weekend this coming Summer! Come be your creative selves for an all inclusive weekend. All artistic mediums welcome and absolutely all levels welcome. Painting\, writing\, embroidery\, knitting\, poetry\, wood carving\, photography. We will provide private and shared spaces inside for you to create and there is plenty of inspiration outside for for inspiration and creativity.\n\nAll artists welcome! Painters\, Writers\, Musicians\, Crafters \n\nCome to create under the apple trees\,\n\nCome to restore your muse by the pond\,\n\nCome for community\, but also the peace and quiet on the mountain.\n\nWe'll take good care of you!\n\n\n\nSee a sample itinerary of what to expect on our webpage. However\, the majority of your time can be spent however you like with whatever you need. Grab your artsy and crafty pals and come along!
X-ALT-DESC;FMTTYPE=text/html:<h3 style="text-align:center"><strong>June 19-21\; 2 nights</strong></h3>\n\n<p>We are thrilled to be offering this wonderful weekend this coming Summer! Come be your creative selves for an all inclusive weekend. All artistic mediums welcome and absolutely all levels welcome. Painting\, writing\, embroidery\, knitting\, poetry\, wood carving\, photography. We will provide private and shared spaces inside for you to create and there is plenty of inspiration outside for for inspiration and creativity.</p>\n\n<p style="text-align:center">All artists welcome! Painters\, Writers\, Musicians\, Crafters&hellip\;</p>\n\n<p style="text-align:center">Come to create under the apple trees\,</p>\n\n<p style="text-align:center">Come to restore your muse by the pond\,</p>\n\n<p style="text-align:center">Come for community\, but also the peace and quiet on the mountain.</p>\n\n<p style="text-align:center">We&rsquo\;ll take good care of you!<br />\n<br />\nSee a sample itinerary of what to expect on <a href="https://www.blueberryhillinn.com/artistsretreat">our webpage</a>. However\,&nbsp\;the majority of your time can be spent however <em>you </em>like with whatever <em>you </em>need. Grab your artsy and crafty pals and come along!</p>\n
LOCATION:Blueberry Hill Inn 1245 Goshen-Ripton Road Goshen\, VT 05733
UID:e.1111.8001
SEQUENCE:3
DTSTAMP:20260423T111121Z
URL:https://business.addisoncounty.com/events/details/artists-retreat-weekend-at-blueberry-hill-inn-8001
END:VEVENT

END:VCALENDAR
