BEGIN:VCALENDAR
VERSION:2.0
PRODID:-//ChamberMaster//Event Calendar 2.0//EN
METHOD:PUBLISH
X-PUBLISHED-TTL:P3D
REFRESH-INTERVAL:P3D
CALSCALE:GREGORIAN
BEGIN:VEVENT
DTSTART:20260521T220000Z
DTEND:20260521T233000Z
X-MICROSOFT-CDO-ALLDAYEVENT:FALSE
SUMMARY:Mama's Craft Corner: coloring book edition
DESCRIPTION:The Blooming Circle presents: Mama's Craft Corner: coloring book edition.\n\n\n\nWhen was the last time you colored in a coloring book\, uninterrupted?\n\n\n\nJoin us for a calming creative break made just for moms coloring\, connection\, and a chance to slow down.\n\n\n\nAll are welcome!  Suggested donation of $10\, please bring a snack or refreshment to share!
X-ALT-DESC;FMTTYPE=text/html:The Blooming Circle presents: Mama&#39\;s Craft Corner: coloring book edition.<br />\n<br />\nWhen was the last time you colored in a coloring book\, uninterrupted?<br />\n<br />\nJoin us for a calming creative break made just for moms coloring\, connection\, and a chance to slow down.<br />\n<br />\nAll are welcome!&nbsp\; Suggested donation of $10\, please bring a snack or refreshment to share!
LOCATION:The Bristol Federated Church
UID:e.1111.8022
SEQUENCE:3
DTSTAMP:20260425T224213Z
URL:https://business.addisoncounty.com/events/details/mama-s-craft-corner-coloring-book-edition-8022
END:VEVENT

END:VCALENDAR
