BEGIN:VCALENDAR
VERSION:2.0
PRODID:-//ChamberMaster//Event Calendar 2.0//EN
METHOD:PUBLISH
X-PUBLISHED-TTL:P3D
REFRESH-INTERVAL:P3D
CALSCALE:GREGORIAN
BEGIN:VEVENT
DTSTART:20260509T160000Z
DTEND:20260509T183000Z
X-MICROSOFT-CDO-ALLDAYEVENT:FALSE
SUMMARY:Mothers Day Weekend Garden Luncheon and Tea
DESCRIPTION:Celebrate Mom!\n\nSaturday May 9th (yes\, Saturday)\n\nWe'll be serving at tables scattered throughout the garden on the terrace\, by the pond\, among the blueberry bushes\, and under the apple trees. If the weather doesn't cooperate\, we'll move the experience indoors with cozy seating in the greenhouse and dining room.\n\n\n\nReservations required  |  BYOB\n\nMake it a weekend away! - see website for packaged rates.
X-ALT-DESC;FMTTYPE=text/html:<h3 style="text-align:center"><strong>Celebrate Mom!</strong></h3>\n\n<p style="text-align:center"><strong>Saturday May 9th (yes\, Saturday)</strong></p>\n\n<p style="text-align:center">We&#39\;ll be serving at tables scattered throughout the garden&mdash\;on the terrace\, by the pond\, among the blueberry bushes\, and under the apple trees. If the weather doesn&#39\;t cooperate\, we&#39\;ll move the experience indoors with cozy seating in the greenhouse and dining room.<br />\n<br />\n<strong><a href="mailto:info@blueberryhillinn.com">Reservations required</a></strong>&nbsp\;<strong> |&nbsp\;&nbsp\;BYOB</strong></p>\n\n<p style="text-align:center">Make it a weekend away! - see <strong><a href="https://www.blueberryhillinn.com/mothersday" target="_blank">website</a></strong> for packaged rates.&nbsp\;</p>\n
LOCATION:Blueberry Hill Inn 1245 Goshen-Ripton Road Goshen\, VT 05733
UID:e.1111.7999
SEQUENCE:3
DTSTAMP:20260423T111027Z
URL:https://business.addisoncounty.com/events/details/mothers-day-weekend-garden-luncheon-and-tea-7999
END:VEVENT

END:VCALENDAR
