BEGIN:VCALENDAR
VERSION:2.0
PRODID:-//ChamberMaster//Event Calendar 2.0//EN
METHOD:PUBLISH
X-PUBLISHED-TTL:P3D
REFRESH-INTERVAL:P3D
CALSCALE:GREGORIAN
BEGIN:VEVENT
DTSTART:20260428T220000Z
DTEND:20260429T000000Z
X-MICROSOFT-CDO-ALLDAYEVENT:FALSE
SUMMARY:Ramen Day-FREE Film Screening and Panel Disussion
DESCRIPTION:Ramen Day - "The Vermont Everyone Eats Story" intends to inspire communities to advocate for equity and sustainability in food systems.\n\n\n\nRSVP and submit questions for the panel by clicking this link.\n\n\n\nIn partnership with the Vermont Agency of Commerce and Community Development (ACCD) and documentarian Corey Hendrickson.\n\n\n\n"Ramen Day" tells the story of Vermonters coming together to create program that responded to the COVID-19 pandemic by preparing and distributing locally sourced meals made from local ingredients   as well as sharing the stories of many who benefitted from these meals. The Vermont Everyone Eats program ran for 34 months from August of 2020 until March 31 of 2023. The program fed more than 3.9 million meals to Vermonters while bringing in more than 70 million dollars to the Vermont economy on top of the 49 million provided for the program by the governor\, legislature\, and Federal resources.
X-ALT-DESC;FMTTYPE=text/html:Ramen Day - &quot\;The Vermont Everyone Eats Story&quot\; intends to inspire communities to advocate for equity and sustainability in food systems.<br />\n<br />\nRSVP and submit questions for the panel by clicking this <a href="https://forms.office.com/pages/responsepage.aspx?id=O5O0IK26PEOcAnDtzHVZxlwlJ07TMiJHuFMymWnWe95UMEVBNUdINTBWMDg3Sk9DRksxRlhaVk4zWS4u&amp\;route=shorturl">link</a>.<br />\n<br />\nIn partnership with the Vermont Agency of Commerce and Community Development (ACCD) and documentarian Corey Hendrickson.<br />\n<br />\n&ldquo\;Ramen Day&rdquo\; tells the story of Vermonters coming together to create program that responded to the COVID-19 pandemic by preparing and distributing locally sourced meals made from local ingredients &ndash\; as well as sharing the stories of many who benefitted from these meals. The Vermont Everyone Eats program ran for 34 months from August of 2020 until March 31 of 2023. The program fed more than 3.9 million meals to Vermonters while bringing in more than 70 million dollars to the Vermont economy on top of the 49 million provided for the program by the governor\, legislature\, and Federal resources.
LOCATION:Marquis Theatre
UID:e.1111.8014
SEQUENCE:3
DTSTAMP:20260425T110817Z
URL:https://business.addisoncounty.com/events/details/ramen-day-free-film-screening-and-panel-disussion-8014
END:VEVENT

END:VCALENDAR
