BEGIN:VCALENDAR
VERSION:2.0
PRODID:-//ChamberMaster//Event Calendar 2.0//EN
METHOD:PUBLISH
X-PUBLISHED-TTL:P3D
REFRESH-INTERVAL:P3D
CALSCALE:GREGORIAN
BEGIN:VEVENT
DTSTART:20260425T210000Z
DTEND:20260426T020000Z
X-MICROSOFT-CDO-ALLDAYEVENT:FALSE
SUMMARY:¡Viva El Sabor! a Taste of Community
DESCRIPTION:Join us for an evening that celebrates the heart of Hispanic culinary tradition. We are thrilled to host Chef Magnolia of the Viva El Sabor collective for a one-night-only pop-up experience.\n\n\n\nChef Magnolia will be serving a menu of authentic\, handmade dishes that highlight the traditional flavors and techniques of her heritage. Whether you're coming for the food or the conversation\, stay for the community atmosphere and the perfect wine pairing.\n\n\n\n  Saturday\, April 25\n\n\n\n  10 Green Street\, Vergennes\, VT\n\n\n\n  Doors/Dinner: 5:00 PM   9:00 PM (or until sold out)\n\n\n\n  Tunes by DJ Sojun: 7:00 PM   10:00 PM\n\n\n\n  Admission: Free to attend (Food/Wine for purchase)
X-ALT-DESC;FMTTYPE=text/html:Join us for an evening that celebrates the heart of Hispanic culinary tradition. We are thrilled to host Chef Magnolia of the Viva El Sabor collective for a one-night-only pop-up experience.<br />\n<br />\nChef Magnolia will be serving a menu of authentic\, handmade dishes that highlight the traditional flavors and techniques of her heritage. Whether you&rsquo\;re coming for the food or the conversation\, stay for the community atmosphere and the perfect wine pairing.<br />\n<br />\n&#128197\; Saturday\, April 25<br />\n<br />\n&#128205\; 10 Green Street\, Vergennes\, VT<br />\n<br />\n&#128341\; Doors/Dinner: 5:00 PM &ndash\; 9:00 PM (or until sold out)<br />\n<br />\n&#127926\; Tunes by DJ Sojun: 7:00 PM &ndash\; 10:00 PM<br />\n<br />\n&#127863\; Admission: Free to attend (Food/Wine for purchase)
LOCATION:10 Green Street\, Vergennes\, VT
UID:e.1111.8033
SEQUENCE:3
DTSTAMP:20260423T172851Z
URL:https://business.addisoncounty.com/events/details/viva-el-sabor-a-taste-of-community-8033
END:VEVENT

END:VCALENDAR
